BEGIN:VCALENDAR
VERSION:2.0
PRODID:-//wp-events-plugin.com//7.2.3.1//EN
TZID:Europe/Berlin
X-WR-TIMEZONE:Europe/Berlin
BEGIN:VEVENT
UID:19@stmichael-hiddesen.de
DTSTART;TZID=Europe/Berlin:20240616T110000
DTEND;TZID=Europe/Berlin:20240616T140000
DTSTAMP:20240421T044238Z
URL:https://www.stmichael-hiddesen.de/termine/oekumenisches-fest-lage/
SUMMARY:Ökumenisches Fest Lage
DESCRIPTION:\nGottesdienst und fröhliches Fest auf dem Sedanplatz (vor dem
  Bahnhof Lage / Lippe)\n\n\n\n\nhttps://oekumenischesfest.de\n\n
ATTACH;FMTTYPE=image/jpeg:https://www.stmichael-hiddesen.de/wp-content/upl
 oads/2024/03/2024-02-16_Plakat-Oekumenisches-Fest-2024.jpg
LOCATION:Sedanplatz Lage/Lippe\, Sedanplatz 1\, Lage\, NRW\, 32791\, Lippe\
 , Deutschland
X-APPLE-STRUCTURED-LOCATION;VALUE=URI;X-ADDRESS=Sedanplatz 1\, Lage\, NRW\,
  32791\, Lippe\, Deutschland;X-APPLE-RADIUS=100;X-TITLE=Sedanplatz Lage/Li
 ppe:geo:0,0
END:VEVENT
BEGIN:VTIMEZONE
TZID:Europe/Berlin
X-LIC-LOCATION:Europe/Berlin
BEGIN:DAYLIGHT
DTSTART:20240331T030000
TZOFFSETFROM:+0100
TZOFFSETTO:+0200
TZNAME:CEST
END:DAYLIGHT
END:VTIMEZONE
END:VCALENDAR