BEGIN:VCALENDAR
VERSION:2.0
PRODID:-//wp-events-plugin.com//7.2.3.1//EN
TZID:Europe/Berlin
X-WR-TIMEZONE:Europe/Berlin
BEGIN:VEVENT
UID:17@stmichael-hiddesen.de
DTSTART;TZID=Europe/Berlin:20240323T100000
DTEND;TZID=Europe/Berlin:20240323T120000
DTSTAMP:20240306T082304Z
URL:https://www.stmichael-hiddesen.de/termine/muell-in-hiddesen-sammelakti
 on/
SUMMARY:Müll in Hiddesen - Sammelaktion 
DESCRIPTION:\nEin Mülleimer kann etwas über seine Anwohner und Passanten 
 erzählen: Ist er leer\, ist die Erzählung kurz. Ist er aber voll oder ü
 bervoll – oder quillt der Abfall sogar über den Eimer hinaus zu Boden\,
  dann kann die Erzählung schon länger werden.&nbsp\;\n\n\n\nEin Mülleim
 er lässt etwas erfahren von der Gegend\, seinem Drumherum und über die M
 enschen\, die mit dem Eimer oder an ihm vorbei leben. So erzählt ein Eime
 r\, wie Menschen in seiner Umgebung mit ihren Abfällen umgehen.&nbsp\;\n\
 n\n\nEin Stück Papier aufheben\, den Hundekot eintüten\, die Frittenscha
 le nicht unter sich fallen lassen\,&nbsp\;das Papiertaschentuch nicht in d
 er Hecke entsorgen\, die Kippe nicht einfach nur wegschnipsen.&nbsp\;\n\n\
 n\nUnd dann gibt es tatsächlich Menschen\, die bereit sind\, den Müll au
 fzusammeln\, den andere achtlos weggeworfen haben!\n\n\n\nViele Hiddeser V
 ereine beteiligen sich – auch wir Kirchengemeinden – am Samstag\, 23. 
 März von 10-12 Uhr an der Müllsammelaktion und picken Müll auf in einem
  bestimmten Sammelgebiet\, denn unser Hiddesen soll sauber sein. Einzelne 
 sowie Familien sind eingeladen\, mit Handschuhen\, Eimer und wer hat mit M
 üllpicker um 10 Uhr zum Startpunkt Kath. Kirche zu kommen. Ein paar Müll
 picker und Mülltüten werden noch zur Verfügung gestellt und dann kann e
 slosgehen in einer der Straßen zwischen Hindenburgstraße und Hünenweg\,
  unterhalb des Maiwegs bis zur Friedrich-Ebert-Straße.&nbsp\;\n\n\n\nUm 1
 3 Uhr muss aller Müll im Sammelcontainer am Haus des Gastes abgeliefert s
 ein. Gut\, wenn der Container voll und Hiddesen wieder sauber ist\, und no
 ch besser\, wenn die Müllsammler:innen im nächsten Jahr nichts zu tun ha
 ben und Erzählungen über Mülleimer in Hiddesen sehr kurz sind.&nbsp\;\n
LOCATION:St. Michael im Kampe Hiddesen\, Im Kampe 18\, Detmold\, 32760\, De
 utschland
GEO:51.9231784;8.850869999999986
X-APPLE-STRUCTURED-LOCATION;VALUE=URI;X-ADDRESS=Im Kampe 18\, Detmold\, 327
 60\, Deutschland;X-APPLE-RADIUS=100;X-TITLE=St. Michael im Kampe Hiddesen:
 geo:51.9231784,8.850869999999986
END:VEVENT
BEGIN:VTIMEZONE
TZID:Europe/Berlin
X-LIC-LOCATION:Europe/Berlin
BEGIN:STANDARD
DTSTART:20231029T020000
TZOFFSETFROM:+0200
TZOFFSETTO:+0100
TZNAME:CET
END:STANDARD
END:VTIMEZONE
END:VCALENDAR